BEGIN:VCALENDAR
VERSION:2.0
PRODID:-//pretix//Loop1_Tickets//
BEGIN:VTIMEZONE
TZID:US/Mountain
BEGIN:STANDARD
DTSTART:20001029T030000
RRULE:FREQ=YEARLY;BYDAY=-1SU;BYMONTH=10;UNTIL=20061029T090000Z
TZNAME:MST
TZOFFSETFROM:-0600
TZOFFSETTO:-0700
END:STANDARD
BEGIN:STANDARD
DTSTART:20071104T030000
RRULE:FREQ=YEARLY;BYDAY=1SU;BYMONTH=11
TZNAME:MST
TZOFFSETFROM:-0600
TZOFFSETTO:-0700
END:STANDARD
BEGIN:DAYLIGHT
DTSTART:20000402T030000
RRULE:FREQ=YEARLY;BYDAY=1SU;BYMONTH=4;UNTIL=20060402T100000Z
TZNAME:MDT
TZOFFSETFROM:-0700
TZOFFSETTO:-0600
END:DAYLIGHT
BEGIN:DAYLIGHT
DTSTART:20070311T030000
RRULE:FREQ=YEARLY;BYDAY=2SU;BYMONTH=3
TZNAME:MDT
TZOFFSETFROM:-0700
TZOFFSETTO:-0600
END:DAYLIGHT
END:VTIMEZONE
BEGIN:VEVENT
UID:pretix-SOULDOUT-SBL-0@loop1tickets.com
DTSTART;TZID=US/Mountain:20230729T200000
DTEND;TZID=US/Mountain:20230729T210000
DESCRIPTION:Tickets: https://loop1tickets.com/SOULDOUT/SBL/\nOrganizer: SOU
 L'D OUT
DTSTAMP:20260422T031659Z
LOCATION:The Jam Spot\, 415 Central Ave NW\, Albuquerque\, NM 87102
SUMMARY:SadBoy Loko
END:VEVENT
END:VCALENDAR
