BEGIN:VCALENDAR
VERSION:2.0
PRODID:-//pretix//Loop1_Tickets//
BEGIN:VEVENT
UID:pretix-SamBanksEnt-AdamL-0@loop1tickets.com
DTSTART:20211225T210000Z
DTEND:20211226T050000Z
DESCRIPTION:Tickets: https://loop1tickets.com/SamBanksEnt/AdamL/\nOrganizer
 : Sam Banks Entertainment
DTSTAMP:20260421T162832Z
LOCATION:Studio 210 Nightclub & Bar\, 10319 Perrin Beitel Rd.\, San Antonio
 \,TX 78217
SUMMARY:Adam Lozano at Studio 210 Nightclub & Bar
END:VEVENT
END:VCALENDAR
