BEGIN:VCALENDAR
VERSION:2.0
PRODID:-//pretix//Loop1_Tickets//
BEGIN:VTIMEZONE
TZID:US/Mountain
BEGIN:STANDARD
DTSTART:20001029T030000
RRULE:FREQ=YEARLY;BYDAY=-1SU;BYMONTH=10;UNTIL=20061029T090000Z
TZNAME:MST
TZOFFSETFROM:-0600
TZOFFSETTO:-0700
END:STANDARD
BEGIN:STANDARD
DTSTART:20071104T030000
RRULE:FREQ=YEARLY;BYDAY=1SU;BYMONTH=11
TZNAME:MST
TZOFFSETFROM:-0600
TZOFFSETTO:-0700
END:STANDARD
BEGIN:DAYLIGHT
DTSTART:20000402T030000
RRULE:FREQ=YEARLY;BYDAY=1SU;BYMONTH=4;UNTIL=20060402T100000Z
TZNAME:MDT
TZOFFSETFROM:-0700
TZOFFSETTO:-0600
END:DAYLIGHT
BEGIN:DAYLIGHT
DTSTART:20070311T030000
RRULE:FREQ=YEARLY;BYDAY=2SU;BYMONTH=3
TZNAME:MDT
TZOFFSETFROM:-0700
TZOFFSETTO:-0600
END:DAYLIGHT
END:VTIMEZONE
BEGIN:VEVENT
UID:pretix-SamBanksEnt-BBB800LIVE-0@loop1tickets.com
DTSTART;TZID=US/Mountain:20230715T210000
DTEND;TZID=US/Mountain:20230716T050000
DESCRIPTION:Tickets: https://loop1tickets.com/SamBanksEnt/BBB800LIVE/\nOrga
 nizer: Sam Banks Entertainment
DTSTAMP:20260421T151247Z
LOCATION:800 Live Nightclub and Venue\, 800 Lexington Ave\, San Antonio\, T
 X
SUMMARY:Bad Boy Bill at 800 Live Nightclub
END:VEVENT
END:VCALENDAR
