BEGIN:VCALENDAR
VERSION:2.0
PRODID:-//pretix//Loop1_Tickets//
BEGIN:VEVENT
UID:pretix-SamBanksEnt-BassAddiction-0@loop1tickets.com
DTSTART:20240503T220000Z
DTEND:20240504T030000Z
DESCRIPTION:Tickets: https://loop1tickets.com/SamBanksEnt/BassAddiction/\nO
 rganizer: Sam Banks Entertainment
DTSTAMP:20260421T092639Z
LOCATION:Deco Ballroom\, 1906 Fredericksburg Rd\, San Antonio\, TX 78201
SUMMARY:Bass Addiction
END:VEVENT
END:VCALENDAR
