BEGIN:VCALENDAR
VERSION:2.0
PRODID:-//pretix//Loop1_Tickets//
BEGIN:VEVENT
UID:pretix-SamBanksEnt-CasedeAmorSA-0@loop1tickets.com
DTSTART:20231118T210000Z
DTEND:20231119T020000Z
DESCRIPTION:Tickets: https://loop1tickets.com/SamBanksEnt/CasedeAmorSA/\nOr
 ganizer: Sam Banks Entertainment
DTSTAMP:20260421T151247Z
LOCATION:Web House\, 320 Blanco Rd\, San Antonio\, Texas
SUMMARY:Casa de Amor
END:VEVENT
END:VCALENDAR
