BEGIN:VCALENDAR
VERSION:2.0
PRODID:-//pretix//Loop1_Tickets//
BEGIN:VEVENT
UID:pretix-SamBanksEnt-ChklteBlacktone-0@loop1tickets.com
DTSTART:20210626T210000Z
DTEND:20210627T020000Z
DESCRIPTION:Tickets: https://loop1tickets.com/SamBanksEnt/ChklteBlacktone/\
 nOrganizer: Sam Banks Entertainment
DTSTAMP:20260421T162935Z
LOCATION:Amp Room\, 2407 N. St.Marys\, San Antonio\, TX 78212
SUMMARY:Chklte at Amp Room
END:VEVENT
END:VCALENDAR
