BEGIN:VCALENDAR
VERSION:2.0
PRODID:-//pretix//Loop1_Tickets//
BEGIN:VEVENT
UID:pretix-SamBanksEnt-ElctrcShdwn23-0@loop1tickets.com
DTSTART:20210605T210000Z
DTEND:20210606T030000Z
DESCRIPTION:Tickets: https://loop1tickets.com/SamBanksEnt/ElctrcShdwn23/\nO
 rganizer: Sam Banks Entertainment
DTSTAMP:20260421T162934Z
LOCATION:800 Live Bar & Nightclub\, 800 Lexington Ave\, San Antonio\, TX 78
 212
SUMMARY:Electric Shakedown 23
END:VEVENT
END:VCALENDAR
