BEGIN:VCALENDAR
VERSION:2.0
PRODID:-//pretix//Loop1_Tickets//
BEGIN:VEVENT
UID:pretix-SamBanksEnt-ElectricSKDWN24-0@loop1tickets.com
DTSTART:20220702T210000Z
DTEND:20220703T050000Z
DESCRIPTION:Tickets: https://loop1tickets.com/SamBanksEnt/ElectricSKDWN24/\
 nOrganizer: Sam Banks Entertainment
DTSTAMP:20260421T151248Z
LOCATION:800 Live Bar & Nightclub\, 800 Lexington Ave\, San Antonio\, TX
SUMMARY:Electric Shakedown 24
END:VEVENT
END:VCALENDAR
