BEGIN:VCALENDAR
VERSION:2.0
PRODID:-//pretix//Loop1_Tickets//
BEGIN:VEVENT
UID:pretix-SamBanksEnt-ElectricSKDWN25-0@loop1tickets.com
DTSTART:20230930T210000Z
DTEND:20231001T040000Z
DESCRIPTION:Tickets: https://loop1tickets.com/SamBanksEnt/ElectricSKDWN25/\
 nOrganizer: Sam Banks Entertainment
DTSTAMP:20260421T151248Z
LOCATION:800 Live Nightclub\, 800 Lexington Ave\, San Antonio\, TX
SUMMARY:Electric Shakedown 25
END:VEVENT
END:VCALENDAR
