BEGIN:VCALENDAR
VERSION:2.0
PRODID:-//pretix//Loop1_Tickets//
BEGIN:VEVENT
UID:pretix-SamBanksEnt-Frankiebone5-0@loop1tickets.com
DTSTART:20221217T210000Z
DTEND:20221218T050000Z
DESCRIPTION:Tickets: https://loop1tickets.com/SamBanksEnt/Frankiebone5/\nOr
 ganizer: Sam Banks Entertainment
DTSTAMP:20260421T152035Z
LOCATION:800 Live Nightclub & Venue\, 800 Lexington Ave\, San Antonio\, TX
SUMMARY:Frankie Bones at 800 Live Nightclub
END:VEVENT
END:VCALENDAR
