BEGIN:VCALENDAR
VERSION:2.0
PRODID:-//pretix//Loop1_Tickets//
BEGIN:VEVENT
UID:pretix-SamBanksEnt-Freqncyofbass5-0@loop1tickets.com
DTSTART:20230722T210000Z
DTEND:20230723T040000Z
DESCRIPTION:Tickets: https://loop1tickets.com/SamBanksEnt/Freqncyofbass5/\n
 Organizer: Sam Banks Entertainment
DTSTAMP:20260421T152925Z
LOCATION:Los Tres Masqueteros\, 5103 Randolph Rd\, San Antonio\, TX 78233
SUMMARY:Frequencies of Bass 5
END:VEVENT
END:VCALENDAR
