BEGIN:VCALENDAR
VERSION:2.0
PRODID:-//pretix//Loop1_Tickets//
BEGIN:VEVENT
UID:pretix-SamBanksEnt-Freqncyofbass6-0@loop1tickets.com
DTSTART:20240426T210000Z
DTEND:20240427T020000Z
DESCRIPTION:Tickets: https://loop1tickets.com/SamBanksEnt/Freqncyofbass6/\n
 Organizer: Sam Banks Entertainment
DTSTAMP:20260421T093110Z
LOCATION:Veriede Lux\, 8800 Broadway suite 102\, San Antonio\, Texas
SUMMARY:Frequencies of Bass 6
END:VEVENT
END:VCALENDAR
