BEGIN:VCALENDAR
VERSION:2.0
PRODID:-//pretix//Loop1_Tickets//
BEGIN:VEVENT
UID:pretix-SamBanksEnt-FrequenciesofBassSATX-0@loop1tickets.com
DTSTART:20220423T210000Z
DTEND:20220424T050000Z
DESCRIPTION:Tickets: https://loop1tickets.com/SamBanksEnt/FrequenciesofBass
 SATX/\nOrganizer: Sam Banks Entertainment
DTSTAMP:20260421T151326Z
LOCATION:800 Live Bar & Nightclub\, 800 Lexington Ave\, San Antonio\, TX
SUMMARY:Frequencies of Bass
END:VEVENT
END:VCALENDAR
