BEGIN:VCALENDAR
VERSION:2.0
PRODID:-//pretix//Loop1_Tickets//
BEGIN:VEVENT
UID:pretix-SamBanksEnt-Frqncesbass3-0@loop1tickets.com
DTSTART:20221126T210000Z
DTEND:20221127T050000Z
DESCRIPTION:Tickets: https://loop1tickets.com/SamBanksEnt/Frqncesbass3/\nOr
 ganizer: Sam Banks Entertainment
DTSTAMP:20260421T152036Z
LOCATION:800 Live Bar & Nightclub\, 800 Lexington Ave\, San Antonio\, TX
SUMMARY:Frequencies of Bass 3
END:VEVENT
END:VCALENDAR
