BEGIN:VCALENDAR
VERSION:2.0
PRODID:-//pretix//Loop1_Tickets//
BEGIN:VEVENT
UID:pretix-SamBanksEnt-Frqncesbass4-0@loop1tickets.com
DTSTART:20230225T210000Z
DTEND:20230226T050000Z
DESCRIPTION:Tickets: https://loop1tickets.com/SamBanksEnt/Frqncesbass4/\nOr
 ganizer: Sam Banks Entertainment
DTSTAMP:20260421T152036Z
LOCATION:800 Live Nightclub and Venue\, 800 Lexington Ave\, San Antonio\, T
 X
SUMMARY:Frequencies of Bass 4
END:VEVENT
END:VCALENDAR
