BEGIN:VCALENDAR
VERSION:2.0
PRODID:-//pretix//Loop1_Tickets//
BEGIN:VEVENT
UID:pretix-SamBanksEnt-Fullbloom2-0@loop1tickets.com
DTSTART:20220312T210000Z
DTEND:20220313T050000Z
DESCRIPTION:Tickets: https://loop1tickets.com/SamBanksEnt/Fullbloom2/\nOrga
 nizer: Sam Banks Entertainment
DTSTAMP:20260421T151135Z
LOCATION:800 Live Bar & Nightclub\, 800 Lexington Ave\, San Antonio\, TX
SUMMARY:Full Bloom 2
END:VEVENT
END:VCALENDAR
