BEGIN:VCALENDAR
VERSION:2.0
PRODID:-//pretix//Loop1_Tickets//
BEGIN:VEVENT
UID:pretix-SamBanksEnt-Fullbloom3-0@loop1tickets.com
DTSTART:20230415T210000Z
DTEND:20230416T050000Z
DESCRIPTION:Tickets: https://loop1tickets.com/SamBanksEnt/Fullbloom3/\nOrga
 nizer: Sam Banks Entertainment
DTSTAMP:20260421T151135Z
LOCATION:800 Live Nightclub & Venue\, 800 Lexington Ave\, San Antonio\, Tex
 as
SUMMARY:Full Bloom 3 at 800 Live Nightclub
END:VEVENT
END:VCALENDAR
