BEGIN:VCALENDAR
VERSION:2.0
PRODID:-//pretix//Loop1_Tickets//
BEGIN:VEVENT
UID:pretix-SamBanksEnt-Fullbloom4-0@loop1tickets.com
DTSTART:20240330T210000Z
DTEND:20240331T030000Z
DESCRIPTION:Tickets: https://loop1tickets.com/SamBanksEnt/Fullbloom4/\nOrga
 nizer: Sam Banks Entertainment
DTSTAMP:20260421T151222Z
LOCATION:Simply CBD Remedy\, 2013 Austin Hwy\, San Antonio\, TX 78128
SUMMARY:Full Bloom 4
END:VEVENT
END:VCALENDAR
