BEGIN:VCALENDAR
VERSION:2.0
PRODID:-//pretix//Loop1_Tickets//
BEGIN:VEVENT
UID:pretix-SamBanksEnt-GenevieveXo-0@loop1tickets.com
DTSTART:20220416T210000Z
DTEND:20220417T020000Z
DESCRIPTION:Tickets: https://loop1tickets.com/SamBanksEnt/GenevieveXo/\nOrg
 anizer: Sam Banks Entertainment
DTSTAMP:20260421T151315Z
LOCATION:Porta Rossa\, 1221 Broadway St\, San Antonio\, TX 78215
SUMMARY:Genevieve XO at Porta Rossa
END:VEVENT
END:VCALENDAR
