BEGIN:VCALENDAR
VERSION:2.0
PRODID:-//pretix//Loop1_Tickets//
BEGIN:VEVENT
UID:pretix-SamBanksEnt-HalloweenBrnmkys-0@loop1tickets.com
DTSTART:20221022T210000Z
DTEND:20221023T050000Z
DESCRIPTION:Tickets: https://loop1tickets.com/SamBanksEnt/HalloweenBrnmkys/
 \nOrganizer: Sam Banks Entertainment
DTSTAMP:20260421T152926Z
LOCATION:800 Live Nightclub & Venue\, 800 Lexington Ave\, San Antonio\, TX
SUMMARY:Halloween Brainmonkeys Attack!!
END:VEVENT
END:VCALENDAR
