BEGIN:VCALENDAR
VERSION:2.0
PRODID:-//pretix//Loop1_Tickets//
BEGIN:VEVENT
UID:pretix-SamBanksEnt-HappyHolidaze-0@loop1tickets.com
DTSTART:20231223T210000Z
DTEND:20231224T020000Z
DESCRIPTION:Tickets: https://loop1tickets.com/SamBanksEnt/HappyHolidaze/\nO
 rganizer: Sam Banks Entertainment
DTSTAMP:20260421T152037Z
LOCATION:Veriede Lux\, 8800 Broadway\, San Antonio\, Texas
SUMMARY:Happy Holidaze
END:VEVENT
END:VCALENDAR
