BEGIN:VCALENDAR
VERSION:2.0
PRODID:-//pretix//Loop1_Tickets//
BEGIN:VEVENT
UID:pretix-SamBanksEnt-Keoki-0@loop1tickets.com
DTSTART:20220122T210000Z
DTEND:20220123T050000Z
DESCRIPTION:Tickets: https://loop1tickets.com/SamBanksEnt/Keoki/\nOrganizer
 : Sam Banks Entertainment
DTSTAMP:20260421T151113Z
LOCATION:800 Live Nightclub & Bar\, 800 Lexington Ave\, San Antonio\, TX
SUMMARY:Superstar DJ Keoki at 800 Live Nightclub & Bar
END:VEVENT
END:VCALENDAR
