BEGIN:VCALENDAR
VERSION:2.0
PRODID:-//pretix//Loop1_Tickets//
BEGIN:VEVENT
UID:pretix-SamBanksEnt-LolaHuas-0@loop1tickets.com
DTSTART:20220226T210000Z
DTEND:20220227T050000Z
DESCRIPTION:Tickets: https://loop1tickets.com/SamBanksEnt/LolaHuas/\nOrgani
 zer: Sam Banks Entertainment
DTSTAMP:20260421T151249Z
LOCATION:800 Live Bar & Nightclub\, 800 Lexington Ave\, San Antonio\, TX
SUMMARY:Lola at 800 Live
END:VEVENT
END:VCALENDAR
