BEGIN:VCALENDAR
VERSION:2.0
PRODID:-//pretix//Loop1_Tickets//
BEGIN:VEVENT
UID:pretix-SamBanksEnt-LoveSoDeep3-0@loop1tickets.com
DTSTART:20220205T210000Z
DTEND:20220206T050000Z
DESCRIPTION:Tickets: https://loop1tickets.com/SamBanksEnt/LoveSoDeep3/\nOrg
 anizer: Sam Banks Entertainment
DTSTAMP:20260421T151222Z
LOCATION:800 Live Bar & Nightclub\, 800 Lexington Ave\, San Antonio\, TX
SUMMARY:Love So Deep 3
END:VEVENT
END:VCALENDAR
