BEGIN:VCALENDAR
VERSION:2.0
PRODID:-//pretix//Loop1_Tickets//
BEGIN:VEVENT
UID:pretix-SamBanksEnt-Lovesodeep4-0@loop1tickets.com
DTSTART:20230218T210000Z
DTEND:20230219T050000Z
DESCRIPTION:Tickets: https://loop1tickets.com/SamBanksEnt/Lovesodeep4/\nOrg
 anizer: Sam Banks Entertainment
DTSTAMP:20260421T151221Z
LOCATION:800 Live Nightclub and Venue\, 800 Lexington Ave\, San Antonio\, T
 exas
SUMMARY:Love So Deep 4
END:VEVENT
END:VCALENDAR
