BEGIN:VCALENDAR
VERSION:2.0
PRODID:-//pretix//Loop1_Tickets//
BEGIN:VEVENT
UID:pretix-SamBanksEnt-Lovesodeep5-0@loop1tickets.com
DTSTART:20240217T210000Z
DTEND:20240218T020000Z
DESCRIPTION:Tickets: https://loop1tickets.com/SamBanksEnt/Lovesodeep5/\nOrg
 anizer: Sam Banks Entertainment
DTSTAMP:20260421T151223Z
LOCATION:Veriede Lux\, 8800 Broadway suite 102\, San Antonio\, Texas
SUMMARY:Love So Deep 5
END:VEVENT
END:VCALENDAR
