BEGIN:VCALENDAR
VERSION:2.0
PRODID:-//pretix//Loop1_Tickets//
BEGIN:VEVENT
UID:pretix-SamBanksEnt-RobbTee-0@loop1tickets.com
DTSTART:20231028T210000Z
DTEND:20231029T020000Z
DESCRIPTION:Tickets: https://loop1tickets.com/SamBanksEnt/RobbTee/\nOrganiz
 er: Sam Banks Entertainment
DTSTAMP:20260421T151114Z
LOCATION:Web House\, 320 Blanco Rd\, San Antonio\, TX 78212
SUMMARY:Robb Tee at Web House
END:VEVENT
END:VCALENDAR
