BEGIN:VCALENDAR
VERSION:2.0
PRODID:-//pretix//Loop1_Tickets//
BEGIN:VEVENT
UID:pretix-SamBanksEnt-SAUnderground-0@loop1tickets.com
DTSTART:20231202T210000Z
DTEND:20231203T020000Z
DESCRIPTION:Tickets: https://loop1tickets.com/SamBanksEnt/SAUnderground/\nO
 rganizer: Sam Banks Entertainment
DTSTAMP:20260421T151136Z
LOCATION:Cold Star Dab Co\, 801 W Russell Place unit c\, San Antonio\, Texa
 s
SUMMARY:Dimensions
END:VEVENT
END:VCALENDAR
