BEGIN:VCALENDAR
VERSION:2.0
PRODID:-//pretix//Loop1_Tickets//
BEGIN:VEVENT
UID:pretix-SamBanksEnt-SBBDAYBASH-0@loop1tickets.com
DTSTART:20220924T210000Z
DTEND:20220925T050000Z
DESCRIPTION:Tickets: https://loop1tickets.com/SamBanksEnt/SBBDAYBASH/\nOrga
 nizer: Sam Banks Entertainment
DTSTAMP:20260421T152025Z
LOCATION:800 Live Nightclub and Bar\, 800 Lexington Ave.\, San Antonio\, TX
SUMMARY:Sam Banks Bday Bash
END:VEVENT
END:VCALENDAR
