BEGIN:VCALENDAR
VERSION:2.0
PRODID:-//pretix//Loop1_Tickets//
BEGIN:VEVENT
UID:pretix-SamBanksEnt-SDLB5-0@loop1tickets.com
DTSTART:20210716T210000Z
DTEND:20210717T050000Z
DESCRIPTION:Tickets: https://loop1tickets.com/SamBanksEnt/SDLB5/\nOrganizer
 : Sam Banks Entertainment
DTSTAMP:20260421T162831Z
LOCATION:800 Live Bar & Nightclub\, 800 Lexington St.\, San Antonio\, TX 78
 212
SUMMARY:Summer Dreams & Laser Beams 5
END:VEVENT
END:VCALENDAR
