BEGIN:VCALENDAR
VERSION:2.0
PRODID:-//pretix//Loop1_Tickets//
BEGIN:VEVENT
UID:pretix-SamBanksEnt-SUBSTRATUM-0@loop1tickets.com
DTSTART:20210821T210000Z
DTEND:20210822T050000Z
DESCRIPTION:Tickets: https://loop1tickets.com/SamBanksEnt/SUBSTRATUM/\nOrga
 nizer: Sam Banks Entertainment
DTSTAMP:20260421T162924Z
LOCATION:800 Live Bar & Nightclub\, 800 Lexington Ave\, San Antonio\, TX
SUMMARY:SUBSTRATUM
END:VEVENT
END:VCALENDAR
