BEGIN:VCALENDAR
VERSION:2.0
PRODID:-//pretix//Loop1_Tickets//
BEGIN:VEVENT
UID:pretix-SamBanksEnt-Soulstairs-0@loop1tickets.com
DTSTART:20210828T210000Z
DTEND:20210829T020000Z
DESCRIPTION:Tickets: https://loop1tickets.com/SamBanksEnt/Soulstairs/\nAdmi
 ssion: 08/28/2021 9 p.m.\nOrganizer: Sam Banks Entertainment
DTSTAMP:20260421T162831Z
LOCATION:The Amp Room\, 2407 N. St.Marys\, San Antonio\, TX 78212
SUMMARY:Soulstairs at The Amp Room
END:VEVENT
END:VCALENDAR
