BEGIN:VCALENDAR
VERSION:2.0
PRODID:-//pretix//Loop1_Tickets//
BEGIN:VEVENT
UID:pretix-SamBanksEnt-TechnoBnkr-0@loop1tickets.com
DTSTART:20250412T220000Z
DTEND:20250413T050000Z
DESCRIPTION:Tickets: https://loop1tickets.com/SamBanksEnt/TechnoBnkr/\nOrga
 nizer: Sam Banks Entertainment
DTSTAMP:20260421T080047Z
LOCATION:V12 Warehouse\, 8446 Gualt Lane\, San Antonio\, TX
SUMMARY:Techno Bunker
END:VEVENT
END:VCALENDAR
