BEGIN:VCALENDAR
VERSION:2.0
PRODID:-//pretix//Loop1_Tickets//
BEGIN:VEVENT
UID:pretix-SamBanksEnt-VWM7YR-0@loop1tickets.com
DTSTART:20240127T210000Z
DTEND:20240128T020000Z
DESCRIPTION:Tickets: https://loop1tickets.com/SamBanksEnt/VWM7YR/\nOrganize
 r: Sam Banks Entertainment
DTSTAMP:20260421T151221Z
LOCATION:Veriede Lux\, 8800 Broadway\, San Antonio\, Texas 78217
SUMMARY:VWM 7 Year Anniversary w/ Jenna Shaw
END:VEVENT
END:VCALENDAR
