BEGIN:VCALENDAR
VERSION:2.0
PRODID:-//pretix//Loop1_Tickets//
BEGIN:VEVENT
UID:pretix-SamBanksEnt-VWM9Year-0@loop1tickets.com
DTSTART:20260221T210000Z
DTEND:20260222T020000Z
DESCRIPTION:Tickets: https://loop1tickets.com/SamBanksEnt/VWM9Year/\nOrgani
 zer: Sam Banks Entertainment
DTSTAMP:20260421T080005Z
LOCATION:Jandros Garden Patio\, 2326 N. St. Mary's Street\, San Antonio\, T
 exas
SUMMARY:VWM 9 Year Anniversary with Will Konitzer
END:VEVENT
END:VCALENDAR
