BEGIN:VCALENDAR
VERSION:2.0
PRODID:-//pretix//Loop1_Tickets//
BEGIN:VEVENT
UID:pretix-SamBanksEnt-hjgjz-0@loop1tickets.com
DTSTART:20210731T210000Z
DTEND:20210801T020000Z
DESCRIPTION:Tickets: https://loop1tickets.com/SamBanksEnt/hjgjz/\nOrganizer
 : Sam Banks Entertainment
DTSTAMP:20260421T162922Z
LOCATION:The Amp Room\, 2407 N. St.Marys\, San Antonio\, TX 78212
SUMMARY:Just_N_Case at The Amp Room
END:VEVENT
END:VCALENDAR
