BEGIN:VCALENDAR
VERSION:2.0
PRODID:-//pretix//Loop1_Tickets//
BEGIN:VEVENT
UID:pretix-SamBanksEnt-k3gaq-0@loop1tickets.com
DTSTART:20220319T210000Z
DTEND:20220320T050000Z
DESCRIPTION:Tickets: https://loop1tickets.com/SamBanksEnt/k3gaq/\nOrganizer
 : Sam Banks Entertainment
DTSTAMP:20260421T151249Z
LOCATION:800 Live Bar & Nightclub\, 800 Lexington Ave\, San Antonio\, TX
SUMMARY:Hello_World at 800 Live Bar & Nightclub
END:VEVENT
END:VCALENDAR
