BEGIN:VCALENDAR
VERSION:2.0
PRODID:-//pretix//Loop1_Tickets//
BEGIN:VEVENT
UID:pretix-SamBanksEnt-qd3yu-0@loop1tickets.com
DTSTART:20220827T210000Z
DTEND:20220828T050000Z
DESCRIPTION:Tickets: https://loop1tickets.com/SamBanksEnt/qd3yu/\nOrganizer
 : Sam Banks Entertainment
DTSTAMP:20260421T151221Z
LOCATION:800 Live Nightclub & Bar\, 800 Lexington Ave\, San Antonio\,TX
SUMMARY:Summer Dreams & Laser Beams 7
END:VEVENT
END:VCALENDAR
