BEGIN:VCALENDAR
VERSION:2.0
PRODID:-//pretix//Loop1_Tickets//
BEGIN:VTIMEZONE
TZID:US/Central
BEGIN:STANDARD
DTSTART:20001029T030000
RRULE:FREQ=YEARLY;BYDAY=-1SU;BYMONTH=10;UNTIL=20061029T080000Z
TZNAME:CST
TZOFFSETFROM:-0500
TZOFFSETTO:-0600
END:STANDARD
BEGIN:STANDARD
DTSTART:20071104T030000
RRULE:FREQ=YEARLY;BYDAY=1SU;BYMONTH=11
TZNAME:CST
TZOFFSETFROM:-0500
TZOFFSETTO:-0600
END:STANDARD
BEGIN:DAYLIGHT
DTSTART:20000402T030000
RRULE:FREQ=YEARLY;BYDAY=1SU;BYMONTH=4;UNTIL=20060402T090000Z
TZNAME:CDT
TZOFFSETFROM:-0600
TZOFFSETTO:-0500
END:DAYLIGHT
BEGIN:DAYLIGHT
DTSTART:20070311T030000
RRULE:FREQ=YEARLY;BYDAY=2SU;BYMONTH=3
TZNAME:CDT
TZOFFSETFROM:-0600
TZOFFSETTO:-0500
END:DAYLIGHT
END:VTIMEZONE
BEGIN:VEVENT
UID:pretix-ThatsLiveEnt-acolddayinhell-2063@loop1tickets.com
DTSTART;TZID=US/Central:20230915T200000
DTEND;TZID=US/Central:20230915T210000
DESCRIPTION:Tickets: https://loop1tickets.com/ThatsLiveEnt/acolddayinhell/2
 063/\nOrganizer: That’sLIVE Entertainment
DTSTAMP:20260421T182511Z
LOCATION:16th Street Event Center\, 4518 NW 16th\, Oklahoma City\, Oklahoma
SUMMARY:Ralfy The Plug A Cold Day In Hell Tour - Oklahoma City\, OK
END:VEVENT
END:VCALENDAR
