BEGIN:VCALENDAR
VERSION:2.0
PRODID:-//pretix//Loop1_Tickets//
BEGIN:VTIMEZONE
TZID:US/Pacific
BEGIN:STANDARD
DTSTART:20001029T030000
RRULE:FREQ=YEARLY;BYDAY=-1SU;BYMONTH=10;UNTIL=20061029T100000Z
TZNAME:PST
TZOFFSETFROM:-0700
TZOFFSETTO:-0800
END:STANDARD
BEGIN:STANDARD
DTSTART:20071104T030000
RRULE:FREQ=YEARLY;BYDAY=1SU;BYMONTH=11
TZNAME:PST
TZOFFSETFROM:-0700
TZOFFSETTO:-0800
END:STANDARD
BEGIN:DAYLIGHT
DTSTART:20000402T030000
RRULE:FREQ=YEARLY;BYDAY=1SU;BYMONTH=4;UNTIL=20060402T110000Z
TZNAME:PDT
TZOFFSETFROM:-0800
TZOFFSETTO:-0700
END:DAYLIGHT
BEGIN:DAYLIGHT
DTSTART:20070311T030000
RRULE:FREQ=YEARLY;BYDAY=2SU;BYMONTH=3
TZNAME:PDT
TZOFFSETFROM:-0800
TZOFFSETTO:-0700
END:DAYLIGHT
END:VTIMEZONE
BEGIN:VEVENT
UID:pretix-ThatsLiveEnt-lldrakeo-2006@loop1tickets.com
DTSTART;TZID=US/Pacific:20221125T180000
DTEND;TZID=US/Pacific:20221125T190000
DESCRIPTION:Tickets: https://loop1tickets.com/ThatsLiveEnt/lldrakeo/2006/\n
 Organizer: That’sLIVE Entertainment
DTSTAMP:20260422T092322Z
LOCATION:The Catalyst Atrium\, 1011 Pacific Ave.\, Santa Cruz\, CA 95060
SUMMARY:Santa Cruz\, CA
END:VEVENT
END:VCALENDAR
