BEGIN:VCALENDAR
VERSION:2.0
PRODID:-//pretix//Loop1_Tickets//
BEGIN:VEVENT
UID:pretix-hakubive-notnk2021-0@loop1tickets.com
DTSTART:20210717T210000Z
DTEND:20210718T030000Z
DESCRIPTION:Tickets: https://loop1tickets.com/hakubive/notnk2021/\nAdmissio
 n: 07/17/2021 9 p.m.\nOrganizer: HakubiVerse
DTSTAMP:20260425T124822Z
LOCATION:800 Live Bar & Nightclub\, 800 Lexington Ave\, San Antonio\, Texas
  78212
SUMMARY:Nation of the Nightkids feat. Shawn Jackson & Sephi Hakubi
END:VEVENT
END:VCALENDAR
