BEGIN:VCALENDAR
VERSION:2.0
PRODID:-//pretix//Loop1_Tickets//
BEGIN:VEVENT
UID:pretix-hakubive-sanantokyo5-0@loop1tickets.com
DTSTART:20230721T210000Z
DTEND:20230723T040000Z
DESCRIPTION:Tickets: https://loop1tickets.com/hakubive/sanantokyo5/\nAdmiss
 ion: 07/21/2023 9 p.m.\nOrganizer: HakubiVerse
DTSTAMP:20260423T001023Z
LOCATION:800 LIVE Nightclub & Venue\, 800 Lexington Ave\, San Antonio\, TX 
 78212
SUMMARY:San AnTokyo 5: ULTIMA NIGHTS
END:VEVENT
END:VCALENDAR
